BEGIN:VCALENDAR
VERSION:2.0
PRODID:-//Volt Europa//Events//EN
CALSCALE:GREGORIAN
METHOD:PUBLISH
BEGIN:VEVENT
UID:celoeuropske-valne-zhromazdenie-v-juni-v-bratislave-1781334000@voltslov
 ensko.org
DTSTAMP:20260421T103731Z
DTSTART;TZID=Europe/Bratislava:20260613T090000
DTEND;TZID=Europe/Bratislava:20260614T160000
SUMMARY:Celoeurópske valné zhromaždenie - v júni v Bratislave!
DESCRIPTION:Ďalšie valné zhromaždenie sa bude konať v Bratislave 13 
  14. júna 2026!  Volt Europa to oznámilo na valnom zhromaždení  vo Fra
 nkfurte 1 700 Volterom  štýlovo. Stredná Európa stojí na okraji krízy
 : demokracia je pod tlakom a naše ekonomiky nedokážu naplno rozvinúť s
 voj potenciál. V októbri 2026 čakajú Slovensko miestne a regionálne vo
 ľby. Tento moment však prináša aj jedinečnú príležitosť na zmenu 
  pre Slovensko aj celý náš región.  Aj preto chceme\, aby bolo nadch
 dzajúce valné zhromaždenie Vol
LOCATION:NTC\, Bratislava
URL:https://voltslovensko.org/udalosti/celoeuropske-valne-zhromazdenie-v-ju
 ni-v-bratislave
END:VEVENT
END:VCALENDAR
