BEGIN:VCALENDAR
VERSION:2.0
PRODID:-//Volt Europa//Events//EN
CALSCALE:GREGORIAN
METHOD:PUBLISH
BEGIN:VEVENT
UID:event-1-example-1694078520@voltslovensko.org
DTSTAMP:20260425T104644Z
DTSTART;TZID=Europe/Bratislava:20230907T112200
DTEND;TZID=Europe/Bratislava:20230907T112300
SUMMARY:Event 1 example
DESCRIPTION:Invitation to the event
LOCATION:Address or URL
URL:https://voltslovensko.org/udalosti/event-1-example
END:VEVENT
END:VCALENDAR
