BEGIN:VCALENDAR
VERSION:2.0
PRODID:-//Volt Europa//Events//EN
CALSCALE:GREGORIAN
METHOD:PUBLISH
BEGIN:VEVENT
UID:stretnite-vasich-europoslancov-za-volt-tvorte-buducnost-1751385600@volt
 slovensko.org
DTSTAMP:20260425T105314Z
DTSTART;TZID=Europe/Bratislava:20250701T180000
DTEND;TZID=Europe/Bratislava:20250701T220000
SUMMARY:Stretnite Vašich europoslancov za Volt - Tvorte budúcnosť
DESCRIPTION:Európska politika - Nuda? Zamyslite sa znova! Pridajte sa k n
 m 1. júla 2025 a stretnite štyroch poslancov Európskeho parlamentu za V
 olt Europa\, vypočujte si\, na čom pracujú\, a položte im všetky svoje
  otázky. Nela\, Damian\, Anna a Kai sa k nám pripoja v Kodani na večer p
 lný prednášok\, otázok a odpovedí a komunitnej večere (fællesspisnin
 g). Sledujte nás pre úplný program večera\, ale zatiaľ si zapíšte d
 tum a zabezpečte si svoju bezplatnú vstupenku cez odkaz na Eventbrite ni
 žšie. Tešíme sa na vás! 
LOCATION:Culture House Indre By\; 3 Charlotte Ammundsens Plads 1359 Københ
 avn Denmark
URL:https://voltslovensko.org/udalosti/stretnite-vasich-europoslancov-za-vo
 lt-tvorte-buducnost
END:VEVENT
END:VCALENDAR
